BEGIN:VCALENDAR
PRODID:-//IONAS//RIS//DE
VERSION:2.0
CALSCALE:GREGORIAN
BEGIN:VEVENT
DTSTAMP:20260426T004829Z
DTSTART:20260429T173000
DTEND:20260429T000000
SUMMARY:Sitzung des Haupt- und Finanzausschusses der Verbandsgemeinde Nah
 e-Glan
LOCATION:Sitzungssaal der Verbandsgemeinde Nahe-Glan\, Marktplatz 11\, 55
 566 Bad Sobernheim
DESCRIPTION:Tagesordnungspunkte\n1 Anpassung der Förderrichtlinie hausärz
 tliche Versorgung\; Beratung und empfehlende Beschlussfassung\n2 Beschaf
 fung von Atemschutzgeräten\n3 Sondervermögen Rheinland-Pfalz-Plan - Bera
 tung und Beschlussempfehlung von Maßnahmenvorschlägen zum Umsetzungskonz
 ept\n4 Mitteilungen des Vorsitzenden und Anfragen der Ausschussmitgliede
 r\n1 Bau eines Katzenhauses durch eine private Investorin in Bad Sobernh
 eim - Kostenbeteiligung durch die Verbandsgemeinde Nahe-Glan\; Beratung 
 und Beschlussfassung\n2 Förderung der Niederlassung einer Hausarztpraxis
  in Bad Sobernheim\; Beratung und empfehlende Beschlussfassung\n3 Person
 alangelegenheiten\n4 Mitteilungen des Vorsitzenden und Anfragen der Auss
 chussmitglieder
UID:z4CBrHaSFJagufxe
END:VEVENT
END:VCALENDAR
