BEGIN:VCALENDAR
PRODID:-//IONAS//RIS//DE
VERSION:2.0
CALSCALE:GREGORIAN
BEGIN:VEVENT
DTSTAMP:20260426T004813Z
DTSTART:20260318T181500
DTEND:20260318T194000
SUMMARY:Sitzung des Stadtrates der Stadt Bad Sobernheim
LOCATION:Bürgerhaus Alte Grundschule\, Ringstraße 6\, 55566 Bad Sobernhei
 m
DESCRIPTION:Tagesordnungspunkte\n1 Einwohnerfragestunde\n2 Beratung und B
 eschlussfassung über die Haushaltssatzung mit Anlagen für das Jahr 2026\
 n3 Auftragsvergaben\n3.1 Auftragsvergabe Bordsteininstandsetzung Dammstr
 aße\, Nahestraße\n3.2 Auftragsvergabe Bauwerksscann Obertor\n4 Heimatmus
 eum Priorhof - Auftragsvergabe Metallbauarbeiten (Brandschutztüren)\n5 H
 eimatmuseum Priorhof - Auftragsvergabe Metallbauarbeiten (Treppengelände
 r usw.)\n6 Erteilung des gemeindlichen Einvernehmens nach §36 BauGB zu e
 inem \nBauvorhaben im Außenbereich\nBauvorhaben: Abriss des bestehenden EG u. Wiedererrichtung in Modulbauw
 eise\nGemarkung Sobernheim\, Flur 22 Nr. 46/11\n7 Mitteilungen des Vorsitzend
 en und Anfragen der Ratsmitglieder\n1 Grundstücksangelegenheiten\n2 Mitt
 eilungen des Vorsitzenden und Anfragen der Ratsmitglieder
UID:xgfVkDcfW5H0GXyU
END:VEVENT
END:VCALENDAR
