BEGIN:VCALENDAR
PRODID:-//IONAS//RIS//DE
VERSION:2.0
CALSCALE:GREGORIAN
BEGIN:VEVENT
DTSTAMP:20260426T004945Z
DTSTART:20260421T173000
DTEND:20260421T000000
SUMMARY:Gemeinsame Sitzung des Ausschusses für Bauen und Liegenschaften u
 nd des Ausschusses für Familien\, Soziales\, Jugend und Kindertagesstätt
 en der Ortsgeme
LOCATION:Ortstermin\, \, null null
DESCRIPTION:Tagesordnungspunkte\n1 Ortstermin Kindertagesstätte:\nBesprechung weiteres Vorgehen Kindertagesstätte\n2 Ortstermin Friedhof:
  \nBesprechung weiteres Vorgehen Friedhof\n3 Nachtragshaushalt 2026 der Or
 tsgemeinde Staudernheim\n4 Mitteilungen der Vorsitzenden und Anfragen de
 r Ratsmitglieder
UID:xIMvGdqxwci1jVpw
END:VEVENT
END:VCALENDAR
