BEGIN:VCALENDAR
PRODID:-//IONAS//RIS//DE
VERSION:2.0
CALSCALE:GREGORIAN
BEGIN:VEVENT
DTSTAMP:20260426T004801Z
DTSTART:20260520T190000
DTEND:20260520T000000
SUMMARY:Sitzung des Gemeinderates der Ortsgemeinde Staudernheim
LOCATION:Gemeindehaus Staudernheim\, Mainzer Straße 16\, 55568 Staudernhe
 im
DESCRIPTION:
UID:w_0fNr-4X71RWX1a
END:VEVENT
END:VCALENDAR
