BEGIN:VCALENDAR
PRODID:-//IONAS//RIS//DE
VERSION:2.0
CALSCALE:GREGORIAN
BEGIN:VEVENT
DTSTAMP:20260426T004829Z
DTSTART:20260512T180000
DTEND:20260512T000000
SUMMARY:Sitzung des Werks- und Betriebsausschusses der Verbandsgemeinde N
 ahe-Glan
LOCATION:Sitzungssaal der Verbandsgemeinde Nahe-Glan\, Marktplatz 11\, 55
 566 Bad Sobernheim
DESCRIPTION:
UID:wEPzc6YTfWMdIByh
END:VEVENT
END:VCALENDAR
