BEGIN:VCALENDAR
PRODID:-//IONAS//RIS//DE
VERSION:2.0
CALSCALE:GREGORIAN
BEGIN:VEVENT
DTSTAMP:20260426T004945Z
DTSTART:20260128T191500
DTEND:20260128T220000
SUMMARY:Gemeinsame Sitzung des Tourismus- und Kulturausschusses und des A
 usschusses für Bauen und Liegenschaften der Ortsgemeinde Staudernheim
LOCATION:Gemeindehaus Staudernheim\, Mainzer Straße 16\, 55568 Staudernhe
 im
DESCRIPTION:Tagesordnungspunkte\n1 Beratung zum Förderprogramm \"Regional
 es Zukunftsprogramm\"\n2 Beratung Bebauungsplan Tuchbleiche\n3 Beratung 
 über die weiteren Maßnahmen auf dem Friedhof\n4 Bericht Straßenzustand\n
 5 Beratung über die weitere Vorgehensweise zur Nutzung des Gemeindehause
 s\n6 Offizieller Informationskanal der Ortsgemeinde Staudernheim\; \nAntrag der CDU-Fraktion im Gemeinderat Staudernheim\n7 Mitteilungen des
  Vorsitzenden und Anfragen der Ausschussmitglieder\n1 Grundstücksangeleg
 enheiten
UID:t86Mtyx1U3vexOtT
END:VEVENT
END:VCALENDAR
