BEGIN:VCALENDAR
PRODID:-//IONAS//RIS//DE
VERSION:2.0
CALSCALE:GREGORIAN
BEGIN:VEVENT
DTSTAMP:20260426T032515Z
DTSTART:20260401T190000
DTEND:20260401T000000
SUMMARY:Sitzung des Gemeinderates der Ortsgemeinde Becherbach
LOCATION:Rossberghalle Becherbach\, Hauptstraße 197\, 67827 Becherbach
DESCRIPTION:Tagesordnungspunkte\n1 Einwohnerfragestunde\n2 Erteilung des 
 gemeindlichen Einvernehmens nach §36 BauGB zu einem \nBauvorhaben im Außenbereich\nBauvorhaben: Errichtung und Betrieb einer Windenegieanlage \nGemarkung Becherbach\, Flur 0 Nr. 3686\n3 Informationen über das FF-PVA
  Projekt Becherbach\n4 - TOP wird abgesetzt -\nAufstellung des Bebauungsplans \"Solarpark Am Roßberg\"\n- Aufstellung im Regelverfahren\n- Aufstellungsbeschluss gemäß § 2 Abs. 1 BauGB\n5 Aufstellung des Bebau
 ungsplans \"Erweiterung Alter Wingert\"\;\n- Kostenübernahme der Entwässerungskonzeptionierung\n6 Annahme von Spen
 den gem. § 94 Abs. 3 GemO\nHier: Sachspende für Jugendraum\n7 Mitteilungen des Vorsitzenden und An
 fragen der Ratsmitglieder\n1 Mitteilungen des Vorsitzenden und Anfragen 
 der Ratsmitglieder
UID:rRdLISsy7g78Qy1c
END:VEVENT
END:VCALENDAR
