BEGIN:VCALENDAR
PRODID:-//IONAS//RIS//DE
VERSION:2.0
CALSCALE:GREGORIAN
BEGIN:VEVENT
DTSTAMP:20260426T032616Z
DTSTART:20260518T181500
DTEND:20260518T000000
SUMMARY:Sitzung des Bauausschusses der Stadt Bad Sobernheim
LOCATION:Sitzungssaal der Verbandsgemeinde Nahe-Glan\, Marktplatz 11\, 55
 566 Bad Sobernheim
DESCRIPTION:
UID:qVRZTdg1sz5fWWsv
END:VEVENT
END:VCALENDAR
