BEGIN:VCALENDAR
PRODID:-//IONAS//RIS//DE
VERSION:2.0
CALSCALE:GREGORIAN
BEGIN:VEVENT
DTSTAMP:20260426T004813Z
DTSTART:20260518T190000
DTEND:20260518T000000
SUMMARY:Sitzung des Haupt- und Finanzausschusses der Ortsgemeinde Stauder
 nheim
LOCATION:Gemeindehaus Staudernheim\, Mainzer Straße 16\, 55568 Staudernhe
 im
DESCRIPTION:
UID:qSS1P3EBqKo0LRaB
END:VEVENT
END:VCALENDAR
