BEGIN:VCALENDAR
PRODID:-//IONAS//RIS//DE
VERSION:2.0
CALSCALE:GREGORIAN
BEGIN:VEVENT
DTSTAMP:20260426T004814Z
DTSTART:20260414T110000
DTEND:20260414T000000
SUMMARY:Sitzung des Wald- und Wegeausschusses der Ortsgemeinde Monzingen
LOCATION:Ortstermin\, \, null null
DESCRIPTION:Tagesordnungspunkte\n1 Grundstücksangelegenheiten\n2 Mitteilu
 ngen des Vorsitzenden und Anfragen der Ausschussmitglieder
UID:orArJBRlUDd6C04i
END:VEVENT
END:VCALENDAR
