BEGIN:VCALENDAR
PRODID:-//IONAS//RIS//DE
VERSION:2.0
CALSCALE:GREGORIAN
BEGIN:VEVENT
DTSTAMP:20260426T032551Z
DTSTART:20260506T190000
DTEND:20260506T000000
SUMMARY:Sitzung des Gemeinderates der Ortsgemeinde Weiler bei Monzingen
LOCATION:Gemeindehaus Weiler\, Idarstraße 13\, 55627 Weiler bei Monzingen
 
DESCRIPTION:Tagesordnungspunkte\n1 Einwohnerfragestunde\n2 Umgestaltung M
 arktplatz- Vorstellung Entwurfsplanung\, Beratung und Beschlussfassung\n
 Vorlage ist noch nicht veröffentlicht worden.\n3 Annahme von Spenden gem
 . § 94 Abs. 3 GemO\nHier: Spende für Maifest 2026\n4 Mitteilungen des Vorsitzenden und Anfr
 agen der Ratsmitglieder\n1 Mitteilungen des Vorsitzenden und Anfragen de
 r Ratsmitglieder
UID:kkNSfpYbJxX3-Fe-
END:VEVENT
END:VCALENDAR
