BEGIN:VCALENDAR
PRODID:-//IONAS//RIS//DE
VERSION:2.0
CALSCALE:GREGORIAN
BEGIN:VEVENT
DTSTAMP:20260426T032516Z
DTSTART:20260427T193000
DTEND:20260427T000000
SUMMARY:Sitzung des Gemeinderates der Ortsgemeinde Rehborn
LOCATION:Gemeindehaus Rehborn\, Hauptstraße 26\, Hauptstraße 26\, 55592 R
 ehborn
DESCRIPTION:Tagesordnungspunkte\n1 Einwohnerfragestunde\n2 Feststellung u
 nd Beschlussfassung des Jahresabschlusses 2019 sowie Entlastung des Orts
 bürgermeisters und der Beigeordneten\n3 Feststellung und Beschlussfassun
 g des Jahresabschlusses 2020 sowie Entlastung des Ortsbürgermeisters und
  der Beigeordneten\n4 Feststellung und Beschlussfassung des Jahresabschl
 usses 2021 sowie Entlastung des Ortsbürgermeisters und der Beigeordneten
 \n5 Angebot zur Anschaffung neuer Möbel für den Ratssaal\; \nBeratung und Beschlussfassung\n6 Beratung und Beschlussfassung über die
  Änderung der Maßnahmen im Rahmen des Regionalen Zukunftsprogramms\n7 An
 nahme von Spenden gem. § 94 Abs. 3 GemO\nHier: Spende zur Unterhaltung gemeindlicher Einrichtungen\n8 Mitteilung
 en des Vorsitzenden und Anfragen der Ratsmitglieder\n1 Friedhofsangelege
 nheit\n2 Mitteilungen des Vorsitzenden und Anfragen der Ratsmitglieder
UID:kG_SbOGo88zRgPF1
END:VEVENT
END:VCALENDAR
