BEGIN:VCALENDAR
PRODID:-//IONAS//RIS//DE
VERSION:2.0
CALSCALE:GREGORIAN
BEGIN:VEVENT
DTSTAMP:20260426T004759Z
DTSTART:20260423T183000
DTEND:20260423T000000
SUMMARY:Sitzung des Gemeinderates der Ortsgemeinde Meddersheim
LOCATION:Ratszimmer im Gemeindesaal Meddersheim\, Naheweinstraße 15\, 555
 66 Meddersheim
DESCRIPTION:Tagesordnungspunkte\n1 Einwohnerfragestunde\n2 Beratung und B
 eschlussfassung über die Haushaltssatzung mit Anlagen für die Jahre 2026
  und 2027\n3 Bauhof Meddersheim - Auftragsvergabe Planungsleistungen\n4 
 Renaturierung Altenberger Bach - Auftragserteilung Planung\n5 Mitteilung
 en des Vorsitzenden und Anfragen der Ratsmitglieder\n1 Mitteilungen des 
 Vorsitzenden und Anfragen der Ratsmitglieder
UID:ig2zJUWlLR99Ro-P
END:VEVENT
END:VCALENDAR
