BEGIN:VCALENDAR
PRODID:-//IONAS//RIS//DE
VERSION:2.0
CALSCALE:GREGORIAN
BEGIN:VEVENT
DTSTAMP:20260426T032551Z
DTSTART:20260330T183000
DTEND:20260330T203000
SUMMARY:Sitzung des Bauausschusses der Ortsgemeinde Monzingen
LOCATION:Feuerwehrhaus Monzingen\, Kirbachstraße\, 55569 Monzingen
DESCRIPTION:Tagesordnungspunkte\n1 Ertüchtigung der öffentlichen Toilette
  im Kellergeschoss Feuerwehrhaus - Maßnahmenauswahl\n2 Sachstand von Ant
 rägen zur durchgehenden Geschwindigkeitsreduzierung L229\n(Soonwaldstraße) und Hauptstraße/Nußbaumerstraße/Thiergartenstraße (K19
 )\n3 Einrichtung einer 30/km - Zone im Ortskernbereich - Erörterung von 
 Machbarkeit/Konsequenzen\n4 Parkzeitregelung und Optimierung von Stellfl
 ächen (Ortskern: Hauptstraße\, Feuerwehrhaus bis Obertor) - Erörterung v
 on Möglichkeiten\n5 Mitteilungen des Vorsitzenden und Anfragen der Ratsm
 itglieder
UID:gbW3NuKJLIbKl5Hv
END:VEVENT
END:VCALENDAR
