BEGIN:VCALENDAR
PRODID:-//IONAS//RIS//DE
VERSION:2.0
CALSCALE:GREGORIAN
BEGIN:VEVENT
DTSTAMP:20260426T004945Z
DTSTART:20260128T180000
DTEND:20260128T190000
SUMMARY:Sitzung des Ausschusses für Familien\, Soziales\, Jugend und Kind
 ertagesstätten der Ortsgemeinde Staudernheim
LOCATION:Gemeindehaus Staudernheim\, Mainzer Straße 16\, 55568 Staudernhe
 im
DESCRIPTION:Tagesordnungspunkte\n1 Sachstand Jugendraum\n2 Mitteilungen d
 es Vorsitzenden und Anfragen der Ausschussmitglieder
UID:faQnax2wYOZT6IXV
END:VEVENT
END:VCALENDAR
