BEGIN:VCALENDAR
PRODID:-//IONAS//RIS//DE
VERSION:2.0
CALSCALE:GREGORIAN
BEGIN:VEVENT
DTSTAMP:20260426T004920Z
DTSTART:20260429T190000
DTEND:20260429T000000
SUMMARY:Gemeinsame Sitzung des Haupt- und Finanzausschusses und des Werks
 - und Betriebsausschusses der Verbandsgemeinde Nahe-Glan
LOCATION:Sitzungssaal der Verbandsgemeinde Nahe-Glan\, Marktplatz 11\, 55
 566 Bad Sobernheim
DESCRIPTION:Tagesordnungspunkte\n1 Information und Beratung über die Vere
 inheitlichung der Entgeltstruktur für die Betriebszweige Wasserversorgun
 g und Abwasserbeseitigung\n2 Mitteilungen des Vorsitzenden und Anfragen 
 der Ausschussmitglieder
UID:a2GWu8B-iG-gtfu6
END:VEVENT
END:VCALENDAR
