BEGIN:VCALENDAR
PRODID:-//IONAS//RIS//DE
VERSION:2.0
CALSCALE:GREGORIAN
BEGIN:VEVENT
DTSTAMP:20260426T004829Z
DTSTART:20260303T181400
DTEND:20260303T193700
SUMMARY:Sitzung des Werks- und Betriebsausschusses der Verbandsgemeinde N
 ahe-Glan
LOCATION:Sitzungssaal der Verbandsgemeinde Nahe-Glan\, Marktplatz 11\, 55
 566 Bad Sobernheim
DESCRIPTION:Tagesordnungspunkte\n1 Freibadsaison 2026\;\n- Vorstellung der Betriebsführer\n- Beratung und Beschlussfassung über die Öffnungszeiten der Freibäder i
 n Bad Sobernheim und in Meisenheim\n2 Beratung und Beschlussfassung über
  die Dachsanierung des Technikgebäudes im Frei- und Erlebnisbad \"Am Ros
 enberg\" in Bad Sobernheim vor Installation der Photovoltaikanlage\n3 Er
 neuerung von Straßenkappen\, Schachtabdeckungen und Einbauarmaturen im R
 ahmen der geplanten Straßendeckensanierung/ Ortsdurchfahrt Monzingen (L2
 29)\n4 Mitteilungen des Vorsitzenden und Anfragen der Ausschussmitgliede
 r\n4.1 Einbau digitale Wasserzähler\n4.2 Entgeltstruktur\n4.3 Wasserstat
 istik\n4.4 Ortsdurchfahrt L232 Bad Sobernheim\n1 Mitteilungen des Vorsit
 zenden und Anfragen der Ausschussmitglieder\n1.1 Rattenbekämpfung\n1.2 I
 ndustriepark Pferdsfeld
UID:YBCyJU2ziR1ENKHi
END:VEVENT
END:VCALENDAR
