BEGIN:VCALENDAR
PRODID:-//IONAS//RIS//DE
VERSION:2.0
CALSCALE:GREGORIAN
BEGIN:VEVENT
DTSTAMP:20260426T004814Z
DTSTART:20260309T150000
DTEND:20260309T170000
SUMMARY:Sitzung des Wald- und Wegeausschusses der Ortsgemeinde Monzingen
LOCATION:Treffpunkt: Parkplatz Wandererheim\, Monzingen\, \, null null
DESCRIPTION:Tagesordnungspunkte\n1 \"Schwammregion Soonwald-Nahe\"\; Such
 e von geeigneten Flächen für die Rückhaltung von Wasser in der Gemarkung
 . \nBegehung und Erörterung mit der Wissenschaftlichen Mitarbeiterin Frau J
 enny Eckes von der Hochschule Geisenheim.\n2 Mitteilungen des Vorsitzend
 en und Anfragen der Ausschussmitglieder
UID:Vdpj9-yoSEB-95LA
END:VEVENT
END:VCALENDAR
