BEGIN:VCALENDAR
PRODID:-//IONAS//RIS//DE
VERSION:2.0
CALSCALE:GREGORIAN
BEGIN:VEVENT
DTSTAMP:20260426T004829Z
DTSTART:20260316T181500
DTEND:20260316T194600
SUMMARY:Sitzung des Hauptausschusses der Stadt Bad Sobernheim
LOCATION:Bürgerhaus Alte Grundschule\, Ringstraße 6\, 55566 Bad Sobernhei
 m
DESCRIPTION:Tagesordnungspunkte\n1 erneute Beratung zum Haushalt 2026 der
  Stadt Bad Sobernheim\n2 Vorstellung des Marketingkonzeptes \"Holly\"\;\nBeratung und ggfls. Beschlussfassung\n3 Vorlage der Beleglisten der För
 derprogramme MII und ZIZ\;\nBeratung und ggfls. Beschlussfassungen\n4 Vorstellung des Konzeptes/Pla
 nung zur \"Jugendparty\"\n5 Mitteilungen des Vorsitzenden und Anfragen d
 er Ausschussmitglieder\n1 Grundstücksangelegenheit\n2.a Personalangelege
 nheiten\n2.2 Personalangelegenheiten\n2.3 Beratung zum Haushalt 2026\, S
 tellenplan - Empfehlungsbeschluss\n3 Grundstücksangelegenheiten\n4 Mitte
 ilungen des Vorsitzenden und Anfragen der Ausschussmitglieder
UID:Uxh0eq7o1hniJGAG
END:VEVENT
END:VCALENDAR
