BEGIN:VCALENDAR
PRODID:-//IONAS//RIS//DE
VERSION:2.0
CALSCALE:GREGORIAN
BEGIN:VEVENT
DTSTAMP:20260426T004812Z
DTSTART:20260421T181500
DTEND:20260421T000000
SUMMARY:Sitzung des Hauptausschusses der Stadt Bad Sobernheim
LOCATION:Sitzungssaal der Verbandsgemeinde Nahe-Glan\, Marktplatz 11\, 55
 566 Bad Sobernheim
DESCRIPTION:Tagesordnungspunkte\n1 erneute Beratung zum Haushalt 2026 der
  Stadt Bad Sobernheim\n2 Auftragsvergaben\n2.1 Kaisersaal - Auftragsverg
 abe Elektroarbeiten für Rauchansaugsystem\n3 Erhöhung der Standgebühren 
 Kirmes 2026\; \nBeratung und evtl. Beschlussfassung Änderung der Satzung\n4 Beschluss d
 er Beauftragung von Druck\, Kuvertierung und Versand der Bürgerabfrage z
 um potenziellen Wärmenetz durch GP Joule\n5 Mitteilungen des Vorsitzende
 n und Anfragen der Ausschussmitglieder\n1 Mitteilungen des Vorsitzenden 
 und Anfragen der Ausschussmitglieder
UID:Tpvh1XwUw_75nRYv
END:VEVENT
END:VCALENDAR
