BEGIN:VCALENDAR
PRODID:-//IONAS//RIS//DE
VERSION:2.0
CALSCALE:GREGORIAN
BEGIN:VEVENT
DTSTAMP:20260426T004829Z
DTSTART:20260415T181500
DTEND:20260415T000000
SUMMARY:Sitzung des Hauptausschusses der Stadt Bad Sobernheim
LOCATION:Sitzungssaal der Verbandsgemeinde Nahe-Glan\, Marktplatz 11\, 55
 566 Bad Sobernheim
DESCRIPTION:Tagesordnungspunkte\n1 erneute Beratung zum Haushalt 2026 der
  Stadt Bad Sobernheim\n2 Auftragsvergaben\n3 Mitteilungen des Vorsitzend
 en und Anfragen der Ausschussmitglieder\n1 Personalangelegenheiten\n2 Mi
 tteilungen des Vorsitzenden und Anfragen der Ausschussmitglieder
UID:Tmg8SoFFXlusg-Zy
END:VEVENT
END:VCALENDAR
