BEGIN:VCALENDAR
PRODID:-//IONAS//RIS//DE
VERSION:2.0
CALSCALE:GREGORIAN
BEGIN:VEVENT
DTSTAMP:20260426T004758Z
DTSTART:20260312T193000
DTEND:20260312T212000
SUMMARY:Sitzung des Gemeinderates der Ortsgemeinde Meddersheim
LOCATION:Ratszimmer im Gemeindesaal Meddersheim\, Naheweinstraße 15\, 555
 66 Meddersheim
DESCRIPTION:Tagesordnungspunkte\n1 Einwohnerfragestunde\n2 Übertragung vo
 n Haushaltsmitteln (Ermächtigungsübertrag) von 2025 nach 2026\n3 Grundst
 ücksangelegenheit\; Gemarkung Meddersheim\, Flur 42\, Nr. 237  \nAufhebung des Beschlusses zur Außerdienststellung eines fußläufigen Wir
 tschaftsweges - Satzungsbeschluss\n4 Erteilung des gemeindlichen Einvern
 ehmens nach §36 BauGB zu einem \nBauvorhaben im Außenbereich\nBauvorhaben: Anbau an eine bestehende Lagerhalle\nGemarkung Meddersheim\, Flur 41 Nr. 1\n5 Annahme von Spenden gem. § 94 
 Abs. 3 GemO\nHier: Sachspenden für Weinfest 2025\n6 Mitteilungen des Vorsitzenden un
 d Anfragen der Ratsmitglieder\n6.1 Informationen zum Glasfaserausbau\n6.
 2 Informationen Neubaugebiet\n6.3 Informationen Kanalsanierung\n6.4 Info
 rmationen Kita-Neubau\n6.5 Baumschnitt\n6.6 Vermessung Grundstück Ev. Ki
 rchengemeinde\n1 Vertragsangelegenheit\n2 Mitteilungen des Vorsitzenden 
 und Anfragen der Ratsmitglieder\n2.1 Installation eines neuen Luftabgasr
 ohres Sobernheimer Straße 16\n2.2 Müllablagerungen\n2.3 Landtagswahl
UID:O3xGBQugOK0NV3Lb
END:VEVENT
END:VCALENDAR
