BEGIN:VCALENDAR
PRODID:-//IONAS//RIS//DE
VERSION:2.0
CALSCALE:GREGORIAN
BEGIN:VEVENT
DTSTAMP:20260426T004813Z
DTSTART:20260422T181500
DTEND:20260422T000000
SUMMARY:Sitzung des Stadtrates der Stadt Bad Sobernheim
LOCATION:Sitzungssaal der Verbandsgemeinde Nahe-Glan\, Marktplatz 11\, 55
 566 Bad Sobernheim
DESCRIPTION:Tagesordnungspunkte\n1 Freizeitpark\, 2. BA\, Klimarelevante 
 Maßnahme - Vorstellung der Entwurfsplanung\n2 Beratung und Beschlussfass
 ung über die Haushaltssatzung mit Anlagen für das Jahr 2026\n3 Erste Sat
 zung zur Änderung der Satzung über die Erhebung von Gebühren auf Märkten
 \, Krammärkten und der Johanniskirmes in der Stadt Bad Sobernheim\; Bera
 tung und Beschlussfassung\n4 Erteilung des gemeindlichen Einvernehmens n
 ach §36 BauGB zu einem \nBauvorhaben im Außenbereich\nBauvorhaben: Neubau einer Funkübertragungsstelle für den öffentlichen M
 obilfunk\nGemarkung Pferdsfeld\, Flur 28 Nr. 23/14\n5 Neugestaltung Eingangsberei
 ch Barfußpfad - Nutzung städtischer Flächen\n6 Jahresabschluss der Wohnu
 ngsbaugesellschaft der Stadt Bad Sobernheim mbH zum 31.12.2024\nVorlage 
 ist noch nicht veröffentlicht worden.\n7 Nachwahl stellvertretende Mitgl
 ieder in den Ausschüssen der Stadt Bad Sobernheim\n8 Neugestaltung / Han
 gsicherung Außengelände KITA Leinenborn\n9 Zuschuss an Kath. Kirchengeme
 inde St. Willigis Nahe-Glan-Soon (Rendantur Kirchberg) anlässlich der Er
 tüchtigung der Blitzschutzanlage am Gebäude der kath. Kindertagesstätte 
 Bad Sobernheim\, Herrenstraße 20\n-Beratung und Beschlussfassung-\n10 KITA Albert-Schweitzer-Haus Erneuer
 ung Beleuchtung - Auftragsvergabe\n11 KITA Leinenborn Erneurung Dach - A
 uftragsvergabe Blitzschutz\n12 Auftragsvergabe an die Firma Schulzundteb
 be GmbH & Co. KG \n(Heimatmuseum/Priorhof: Leitsystem\, Ausstellung\, Möbel)\n13 Mitteilun
 gen des Vorsitzenden und Anfragen der Ratsmitglieder\n1 Förderprogramm S
 tadtsanierung Lebendige Zentren\nAnfrage private Förderung im Rahmen des Verfügungsfonds \nBeratung und Beschlussfassung\n2 Mitteilungen des Vorsitzenden und Anfr
 agen der Ratsmitglieder
UID:Nwu0zaxmiS960TB7
END:VEVENT
END:VCALENDAR
