BEGIN:VCALENDAR
PRODID:-//IONAS//RIS//DE
VERSION:2.0
CALSCALE:GREGORIAN
BEGIN:VEVENT
DTSTAMP:20260426T004812Z
DTSTART:20260413T190000
DTEND:20260413T203000
SUMMARY:Sitzung des Haupt- und Finanzausschusses der OG Meddersheim
LOCATION:Rathaus Ortsgemeinde Meddersheim\, Sobernheimer Straße 16\, 5556
 6 Meddersheim
DESCRIPTION:Tagesordnungspunkte\n1 Haushaltssatzung mit Anlagen für die J
 ahre 2026 und 2027 - Beratung und Beschlussempfehlung\n2 Mitteilungen de
 s Vorsitzenden und Anfragen der Ausschussmitglieder
UID:NMKVIIjGBSqwshFD
END:VEVENT
END:VCALENDAR
