BEGIN:VCALENDAR
PRODID:-//IONAS//RIS//DE
VERSION:2.0
CALSCALE:GREGORIAN
BEGIN:VEVENT
DTSTAMP:20260426T004759Z
DTSTART:20260505T193000
DTEND:20260505T000000
SUMMARY:Sitzung des Gemeinderates der Ortsgemeinde Odernheim am Glan
LOCATION:Feuerwehrhaus Odernheim am Glan\, Staudernheimer Straße 18a\, 55
 571 Odernheim am Glan
DESCRIPTION:Tagesordnungspunkte\n1 Einwohnerfragestunde\n2 Neubau KITA Od
 ernheim Auftragsvergabe Fenster/ Außentüren\;\nBeratung und Beschlussfassung\n3 Neubau KITA Odernheim Auftragsvergabe 
 Heizungsarbeiten\n4 Neubau KITA Odernheim Auftragsvergabe Lüftungsarbeit
 en\n5 Neubau KITA Odernheim Auftragsvergabe Sanitärarbeiten\n6 Neubau KI
 TA Odernheim Auftragsvergabe Elektroarbeiten (inkl. PV-Anlage)\n7 Ausbau
  Glan-Blies-Radweg zwischen Rehborn - Odernheim am Glan und Odernheim am
  Glan - Niedermühle - Beschluss Beauftragung Planungsleistung\n8 Annahme
  von Spenden gem. § 94 Abs. 3 GemO\nHier: Spende für \"Rüstige Rentner\"\n9 Feststellung und Beschlussfassu
 ng des Jahresabschlusses 2024 sowie Entlastung des Ortsbürgermeisters un
 d der Beigeordneten\n10 Mitteilungen des Vorsitzenden und Anfragen der R
 atsmitglieder\n1 Mitteilungen des Vorsitzenden und Anfragen der Ratsmitg
 lieder
UID:MpAODxnYZfFqLnde
END:VEVENT
END:VCALENDAR
