BEGIN:VCALENDAR
PRODID:-//IONAS//RIS//DE
VERSION:2.0
CALSCALE:GREGORIAN
BEGIN:VEVENT
DTSTAMP:20260426T004812Z
DTSTART:20260512T181500
DTEND:20260512T000000
SUMMARY:Sitzung des Hauptausschusses der Stadt Bad Sobernheim
LOCATION:Sitzungssaal der Verbandsgemeinde Nahe-Glan\, Marktplatz 11\, 55
 566 Bad Sobernheim
DESCRIPTION:
UID:Lc4jhzwEME34-laY
END:VEVENT
END:VCALENDAR
