BEGIN:VCALENDAR
PRODID:-//IONAS//RIS//DE
VERSION:2.0
CALSCALE:GREGORIAN
BEGIN:VEVENT
DTSTAMP:20260426T004801Z
DTSTART:20260427T190000
DTEND:20260427T000000
SUMMARY:Sitzung des Gemeinderates der Ortsgemeinde Monzingen
LOCATION:Sitzungssaal Rathaus Monzingen\, Hauptstraße 66\, 55569 Monzinge
 n
DESCRIPTION:Tagesordnungspunkte\n1 Einwohnerfragestunde\n2 Verpflichtung 
 eines Ratsmitgliedes\n3 Einrichtung einer Tempo 30-Zone für den Ortskern
 bereich\n4 Parkscheibenregelung Hauptstr. 68\n5 Grundsatzbeschluss zur E
 rrichtung einer barrierefreien Bushaltestelle in der Beindestraße an der
  Grundschule in Monzingen\n6 Kauf eines Aufsitzrasenmähers\n7 Anschaffun
 g einer Anbau-Kehrmaschine für den kommunalen Fuhrpark\nVorlage ist noch
  nicht veröffentlicht worden.\n8 Annahme von Spenden gem. § 94 Abs. 3 Ge
 mO\nHier: Spende für Modernisierung von zwei Spielplätzen\n9 Ersatzbeschaff
 ung von zwei Spielgeräten für den Kinderspielplatz\n10 Mitteilungen des 
 Vorsitzenden und Anfragen der Ratsmitglieder\n1 Grundstücksangelegenheit
 \n2 Grundstücksangelegenheit\n3 Mitteilungen des Vorsitzenden und Anfrag
 en der Ratsmitglieder
UID:Kb7xXDmgocu_a6Mn
END:VEVENT
END:VCALENDAR
