BEGIN:VCALENDAR
PRODID:-//IONAS//RIS//DE
VERSION:2.0
CALSCALE:GREGORIAN
BEGIN:VEVENT
DTSTAMP:20260426T032551Z
DTSTART:20251201T190000
DTEND:20251201T200000
SUMMARY:Sitzung des Gemeinderates der Ortsgemeinde Auen
LOCATION:Getzbachhalle\, Hauptstraße 36\, 55569 Auen
DESCRIPTION:Tagesordnungspunkte\n1 Einwohnerfragestunde\n2 Beratung und B
 eschlussfassung Forstwirtschaftsplan 2026-2027\n3 Annahme von Spenden ge
 m. § 94 Abs. 3 GemO\nHier: Spende für Friedhofstore\n4 Vorstellung der meinOrtApp\n5 Vorstel
 lung Förderung Dorfbudget\n6 Nachbesprechung Kirmes und Vorschau Weihnac
 htsmarkt\n7 Terminplanung Veranstaltungen 2026\n8 Mitteilungen des Vorsi
 tzenden und Anfragen der Ratsmitglieder\n1 Personalangelegenheiten\n2 Mi
 tteilungen des Vorsitzenden und Anfragen der Ratsmitglieder
UID:JNEeTKjnZaBdOciX
END:VEVENT
END:VCALENDAR
