BEGIN:VCALENDAR
PRODID:-//IONAS//RIS//DE
VERSION:2.0
CALSCALE:GREGORIAN
BEGIN:VEVENT
DTSTAMP:20260426T004758Z
DTSTART:20260511T190000
DTEND:20260511T000000
SUMMARY:Sitzung des Gemeinderates der Ortsgemeinde Meddersheim
LOCATION:Ratszimmer im Gemeindesaal Meddersheim\, Naheweinstraße 15\, 555
 66 Meddersheim
DESCRIPTION:
UID:DW8VOi0ENwaLprQ9
END:VEVENT
END:VCALENDAR
