BEGIN:VCALENDAR
PRODID:-//IONAS//RIS//DE
VERSION:2.0
CALSCALE:GREGORIAN
BEGIN:VEVENT
DTSTAMP:20260426T032617Z
DTSTART:20260409T150000
DTEND:20260409T000000
SUMMARY:Sitzung des Rechnungsprüfungsausschusses der Ortsgemeinde Rehborn
 
LOCATION:Sitzungssaal Verwaltungsgebäude Meisenheim\, Obertor 13\, 55590 
 Meisenheim
DESCRIPTION:Tagesordnungspunkte\n1 Prüfung Jahresabschluss 2019\n2 Prüfun
 g Jahresabschluss 2020\n3 Prüfung Jahresabschluss 2021
UID:AlesK0qorm_fpB2H
END:VEVENT
END:VCALENDAR
