BEGIN:VCALENDAR
PRODID:-//IONAS//RIS//DE
VERSION:2.0
CALSCALE:GREGORIAN
BEGIN:VEVENT
DTSTAMP:20260426T004802Z
DTSTART:20260223T193000
DTEND:20260223T214500
SUMMARY:Sitzung des Gemeinderates der Ortsgemeinde Staudernheim
LOCATION:Martin-Luther-Haus der ev. Kirchengemeinde\, Mainzer Str. 5\, 55
 568 Staudernheim
DESCRIPTION:Tagesordnungspunkte\n1 Einwohnerfragestunde\n2 Wahl der/des E
 rsten Beigeordneten gemäß §§ 40 und 53a der Gemeindeordnung\; \nErnennung\, Vereidigung und Einführung in das Amt\n3 Errichtung einer F
 reiflächen-Photovoltaikanlage (PV-FFA) auf Flächen für die Landwirtschaf
 t in Staudernheim\;\nVorstellung der wiwi consult GmbH & Co. KG\n4 Aufstellung des Bebauungs
 planes \"Solarpark - Musterpark\"\;\n- Aufstellungsbeschluss nach § 2 Abs. 1 BauGB\n5 Beratung und evtl. Bes
 chlussfassung \"Regionales Zukunftsprogramm\"\n6 Auftragsvergabe für die
  Erstellung der neuen Homepage der Ortsgemeinde Staudernheim\n7 Auftrags
 vergabe zur Folienverlegung für den Dorfteich\n8 Mitteilungen des Vorsit
 zenden und Anfragen der Ratsmitglieder\n1 Neubaugebiet \"In den Neunvier
 tel\"\n- Ermächtigung des Ortsbürgermeisters zum Abschluss der Vereinbarung üb
 er Planung\, Bau\, Eigentum\, Betrieb\, Kostentragung und Unterhaltung d
 er Anlagen zur Oberflächenwasserbeseitigung\n2 Mitteilungen des Vorsitze
 nden und Anfragen der Ratsmitglieder
UID:9NJF-ZYIoaTLEhT7
END:VEVENT
END:VCALENDAR
