BEGIN:VCALENDAR
PRODID:-//IONAS//RIS//DE
VERSION:2.0
CALSCALE:GREGORIAN
BEGIN:VEVENT
DTSTAMP:20260426T004829Z
DTSTART:20260423T200000
DTEND:20260423T000000
SUMMARY:Gemeinsame Sitzung der Gemeinderäte der Ortsgemeinde Meddersheim\
 , Bärweiler und Kirschroth
LOCATION:Kleiner Gemeindesaal Meddersheim\, Naheweinstraße 15\, 55566 Med
 dersheim
DESCRIPTION:Tagesordnungspunkte\n1 Sachstand Erweiterung Kindertagesstätt
 e Meddersheim
UID:8Xs5DAaz_NULD1xV
END:VEVENT
END:VCALENDAR
