BEGIN:VCALENDAR
PRODID:-//IONAS//RIS//DE
VERSION:2.0
CALSCALE:GREGORIAN
BEGIN:VEVENT
DTSTAMP:20260426T004920Z
DTSTART:20260427T173000
DTEND:20260427T000000
SUMMARY:Sitzung des Ausschusses für Bauen\, Dorferneuerung und Friedhofsw
 essen der Ortsgemeinde Odernheim
LOCATION:Treffpunkt am Rathaus\, Hauptstraße 17\, 55571 Odernheim am Glan
 
DESCRIPTION:Tagesordnungspunkte\n1 Besichtigung ehem. Sparkassengebäude\;
 \nSachstand und Beratung über die weitere Vorgehensweise\n2 Besichtigung 
 Friedhof\;\nBeratung über die Erweiterung von Urnengrabstellen/Friedhofsumgestaltun
 g\n3 Besichtigung Spielplatz Pauline-Mohr-Str.\; \nBeratung über die Neugestaltung\, Erstellung eines Maßnahmenkatalogs\n4
  Mitteilungen des Vorsitzenden und Anfragen der Ratsmitglieder
UID:4js3ajZOQWMnkXYs
END:VEVENT
END:VCALENDAR
