BEGIN:VCALENDAR
PRODID:-//IONAS//RIS//DE
VERSION:2.0
CALSCALE:GREGORIAN
BEGIN:VEVENT
DTSTAMP:20260425T192610Z
DTSTART:20260415T193000
DTEND:20260415T000000
SUMMARY:Sitzung des Stadtrates der Stadt Meisenheim
LOCATION:Sitzungssaal Historisches Rathaus Meisenheim\, Untergasse 23\, 5
 5590 Meisenheim
DESCRIPTION:Tagesordnungspunkte\n1 Einwohnerfragestunde\n2 Neubau einer T
 oilettenanlage im Stadtpark - Auftragsvergabe Putz-/ Malerarbeiten\n3 Ne
 ubau einer Toilettenanlage im Stadtpark - Auftragsvergabe Elektroarbeite
 n\n4 Beschaffung eines Kleintraktors mit Zusatzgeräten\n5 Mitteilungen d
 es Vorsitzenden und Anfragen der Ratsmitglieder\n1 Vertragsangelegenheit
 en\n2 Vertragsangelegenheiten\n3 Mitteilungen des Vorsitzenden und Anfra
 gen der Ratsmitglieder
UID:47RpYLG81MeQfkW4
END:VEVENT
END:VCALENDAR
