BEGIN:VCALENDAR
PRODID:-//IONAS//RIS//DE
VERSION:2.0
CALSCALE:GREGORIAN
BEGIN:VEVENT
DTSTAMP:20260426T032515Z
DTSTART:20260128T190000
DTEND:20260128T202000
SUMMARY:Sitzung des Gemeinderates der Ortsgemeinde Weiler bei Monzingen
LOCATION:Gemeindehaus Weiler\, Idarstraße 13\, 55627 Weiler bei Monzingen
 
DESCRIPTION:Tagesordnungspunkte\n1 Einwohnerfragestunde\n2 Übertragung vo
 n Haushaltsmitteln (Ermächtigungsübertrag) von 2025 nach 2026\n3 Erteilu
 ng des gemeindlichen Einvernehmens nach §36 BauGB zu einem \nBauvorhaben im Außenbereich\nBauvorhaben: Errichtung einer Stallung für Rinder mit Mistplatte\nGemarkung Weiler\, Flur 22 Nr. 64\n4 Auftragserteilung Schneid- und Mul
 charbeiten an Wirtschaftswegen\n5 Beauftragung Objektplanung\, Gonrather
  Hof Renaturierungsmaßnahme\n6 Vergabe von Malerarbeiten im Alten Rathau
 s\n7 Mitteilungen des Vorsitzenden und Anfragen der Ratsmitglieder
UID:2JRaTOVVzomwHDJa
END:VEVENT
END:VCALENDAR
