BEGIN:VCALENDAR
PRODID:-//IONAS//RIS//DE
VERSION:2.0
CALSCALE:GREGORIAN
BEGIN:VEVENT
DTSTAMP:20260426T032616Z
DTSTART:20260421T190000
DTEND:20260421T000000
SUMMARY:Sitzung des Rechnungsprüfungsausschusses der Ortsgemeinde Odernhe
 im
LOCATION:kl. Sitzungssaal der Verbandsgemeinde Nahe-Glan\, Marktplatz 11\
 , 55566 Bad Sobernheim
DESCRIPTION:Tagesordnungspunkte\n1 Prüfung des Jahresabschlusses der Orts
 gemeinde Odernheim am Glan für 2024
UID:0Ma6cjOEQAlkPOHZ
END:VEVENT
END:VCALENDAR
